BEGIN:VCALENDAR
VERSION:2.0
PRODID:-//Loibichler-Innerhofer - ECPv6.15.20//NONSGML v1.0//EN
CALSCALE:GREGORIAN
METHOD:PUBLISH
X-ORIGINAL-URL:https://www.loibichler-innerhofer.at
X-WR-CALDESC:Veranstaltungen für Loibichler-Innerhofer
REFRESH-INTERVAL;VALUE=DURATION:PT1H
X-Robots-Tag:noindex
X-PUBLISHED-TTL:PT1H
BEGIN:VTIMEZONE
TZID:Europe/Vienna
BEGIN:DAYLIGHT
TZOFFSETFROM:+0100
TZOFFSETTO:+0200
TZNAME:CEST
DTSTART:20250330T010000
END:DAYLIGHT
BEGIN:STANDARD
TZOFFSETFROM:+0200
TZOFFSETTO:+0100
TZNAME:CET
DTSTART:20251026T010000
END:STANDARD
BEGIN:DAYLIGHT
TZOFFSETFROM:+0100
TZOFFSETTO:+0200
TZNAME:CEST
DTSTART:20260329T010000
END:DAYLIGHT
BEGIN:STANDARD
TZOFFSETFROM:+0200
TZOFFSETTO:+0100
TZNAME:CET
DTSTART:20261025T010000
END:STANDARD
BEGIN:DAYLIGHT
TZOFFSETFROM:+0100
TZOFFSETTO:+0200
TZNAME:CEST
DTSTART:20270328T010000
END:DAYLIGHT
BEGIN:STANDARD
TZOFFSETFROM:+0200
TZOFFSETTO:+0100
TZNAME:CET
DTSTART:20271031T010000
END:STANDARD
END:VTIMEZONE
BEGIN:VEVENT
DTSTART;TZID=Europe/Vienna:20260130T190000
DTEND;TZID=Europe/Vienna:20260130T210000
DTSTAMP:20260426T062734
CREATED:20260116T140900Z
LAST-MODIFIED:20260118T160428Z
UID:803-1769799600-1769806800@www.loibichler-innerhofer.at
SUMMARY:Spiritueller Abend & geführte Meditation (Osttirol)
DESCRIPTION:Spiritueller Abend & geführte Meditation mit Hubert Loibichler \n\nThema: „Alte Erinnerungen“ jeder Mensch hat welche die ihn immer wieder quälen –  können sie erlöst und gelöscht werden?\n\nbei der geführten Meditation; werden die Teilnehmer\, von Hubert in eine Meditation geführt\, wo jeder einen Kontakt zu seiner Seele aufnehmen kann – die meisten Menschen können hier eine tiefe Liebe zu sich selbst verspüren wie sie es vorher nicht erlebt haben. \n\nInfos zum Vortragenden:\nHubert Loibichler ist Mystiker\, er hat Zugang zur höheren Welt\, macht spirituelle Vorträge und Seminare\, er hatte mehrere Erleuchtungserlebnisse die in seinem Buch zu lesen sind.\nWann:  Fr. 30.1.2026     19.00h bis 21.00h\nOrt:  Mühlanger 2\, 9990 Nußdorf/Debant – Osttirol\nAbendbeitrag:  € 25\,-  bitte um Anmeldung unter 0650 8941539\, gerne auch per SMS oder WHATSAPP
URL:https://www.loibichler-innerhofer.at/event/spiritueller-abend-gefuehrte-meditation-nussdorf-debant-osttirol/
END:VEVENT
END:VCALENDAR