BEGIN:VCALENDAR
VERSION:2.0
PRODID:-//Loibichler-Innerhofer - ECPv6.15.20//NONSGML v1.0//EN
CALSCALE:GREGORIAN
METHOD:PUBLISH
X-WR-CALNAME:Loibichler-Innerhofer
X-ORIGINAL-URL:https://www.loibichler-innerhofer.at
X-WR-CALDESC:Veranstaltungen für Loibichler-Innerhofer
REFRESH-INTERVAL;VALUE=DURATION:PT1H
X-Robots-Tag:noindex
X-PUBLISHED-TTL:PT1H
BEGIN:VTIMEZONE
TZID:Europe/Vienna
BEGIN:DAYLIGHT
TZOFFSETFROM:+0100
TZOFFSETTO:+0200
TZNAME:CEST
DTSTART:20250330T010000
END:DAYLIGHT
BEGIN:STANDARD
TZOFFSETFROM:+0200
TZOFFSETTO:+0100
TZNAME:CET
DTSTART:20251026T010000
END:STANDARD
BEGIN:DAYLIGHT
TZOFFSETFROM:+0100
TZOFFSETTO:+0200
TZNAME:CEST
DTSTART:20260329T010000
END:DAYLIGHT
BEGIN:STANDARD
TZOFFSETFROM:+0200
TZOFFSETTO:+0100
TZNAME:CET
DTSTART:20261025T010000
END:STANDARD
BEGIN:DAYLIGHT
TZOFFSETFROM:+0100
TZOFFSETTO:+0200
TZNAME:CEST
DTSTART:20270328T010000
END:DAYLIGHT
BEGIN:STANDARD
TZOFFSETFROM:+0200
TZOFFSETTO:+0100
TZNAME:CET
DTSTART:20271031T010000
END:STANDARD
END:VTIMEZONE
BEGIN:VEVENT
DTSTART;TZID=Europe/Vienna:20260131T190000
DTEND;TZID=Europe/Vienna:20260131T203000
DTSTAMP:20260426T062424
CREATED:20260118T155252Z
LAST-MODIFIED:20260119T072952Z
UID:823-1769886000-1769891400@www.loibichler-innerhofer.at
SUMMARY:Buchvorstellung von Hubert Loibichler (Osttirol)
DESCRIPTION:Titel des Buches:\n„MEINE ERLEUCHTUNGSERLEBNISSE“ \nHubert Loibichler erzählt über seine außergewöhnlichen spirituellen Erlebnisse\, die er 2002 in der Schweiz gemacht hat. Völlig unvorbereitet konnte er plötzlich in sein früheres Leben einsehen und kam durch seine drängende Suche in einen befreiten Erlösungszustand. Geleitet von unbekannten Kräften\, konnte er mit geschlossenen Augen Auto fahren\, telepathisch auf andere Menschen einwirken und wurde teilweise von Fremdenergien besetzt. Er erlebte seine erste Erleuchtung\, hatte dabei ein Sterbeerlebnis. Darüber – und wie er nachher mit seinem völlig veränderten Bewusstsein\, mit den Fremdenergien und weiteren Erleuchtungserlebnissen umgegangen ist\, beschreibt er in diesem Buch.\nInfos zur Person von Hubert Loibichler findest du unter / Über uns \nWann: Sa. 31. Jan. 2026 – 19 – ca 20.30 Uhr\nKosten: Eintritt frei\nWo: Praxis von Dr. Agnes Innerhofer\, Mühlanger 2\,  A- 9990 Nußdorf Debant\nBitte um Anmeldung unter 0650 8941539 – gerne auch per SMS oder Whatsapp – oder unter Kontakt auf dieser Webseite
URL:https://www.loibichler-innerhofer.at/event/823/
END:VEVENT
END:VCALENDAR