BEGIN:VCALENDAR
VERSION:2.0
PRODID:-//Loibichler-Innerhofer - ECPv6.15.20//NONSGML v1.0//EN
CALSCALE:GREGORIAN
METHOD:PUBLISH
X-WR-CALNAME:Loibichler-Innerhofer
X-ORIGINAL-URL:https://www.loibichler-innerhofer.at
X-WR-CALDESC:Veranstaltungen für Loibichler-Innerhofer
REFRESH-INTERVAL;VALUE=DURATION:PT1H
X-Robots-Tag:noindex
X-PUBLISHED-TTL:PT1H
BEGIN:VTIMEZONE
TZID:Europe/Vienna
BEGIN:DAYLIGHT
TZOFFSETFROM:+0100
TZOFFSETTO:+0200
TZNAME:CEST
DTSTART:20250330T010000
END:DAYLIGHT
BEGIN:STANDARD
TZOFFSETFROM:+0200
TZOFFSETTO:+0100
TZNAME:CET
DTSTART:20251026T010000
END:STANDARD
BEGIN:DAYLIGHT
TZOFFSETFROM:+0100
TZOFFSETTO:+0200
TZNAME:CEST
DTSTART:20260329T010000
END:DAYLIGHT
BEGIN:STANDARD
TZOFFSETFROM:+0200
TZOFFSETTO:+0100
TZNAME:CET
DTSTART:20261025T010000
END:STANDARD
BEGIN:DAYLIGHT
TZOFFSETFROM:+0100
TZOFFSETTO:+0200
TZNAME:CEST
DTSTART:20270328T010000
END:DAYLIGHT
BEGIN:STANDARD
TZOFFSETFROM:+0200
TZOFFSETTO:+0100
TZNAME:CET
DTSTART:20271031T010000
END:STANDARD
END:VTIMEZONE
BEGIN:VEVENT
DTSTART;TZID=Europe/Vienna:20260305T190000
DTEND;TZID=Europe/Vienna:20260305T210000
DTSTAMP:20260426T045647
CREATED:20260215T181809Z
LAST-MODIFIED:20260215T182240Z
UID:887-1772737200-1772744400@www.loibichler-innerhofer.at
SUMMARY:Spiritueller Abend & geführte Meditation (Oberhofen am Irrsee)
DESCRIPTION:Spiritueller Abend & geführte Meditation mit Hubert Loibichler \n\nThema: „Mein Inneres Wollen“ jeder Mensch hat ein Seelisches Muster wodurch sein inneres Wollen entsteht\, ob er es kennt oder nicht\, es wirkt immer in seinem Leben.\n\nbei der geführten Meditation; werden die Teilnehmer\, von Hubert in eine Meditation geführt\, wo jeder einen Kontakt zu seinem Inneren Wollen aufnehmen kann – die meisten Menschen können hier eine tiefe Liebe zu sich selbst verspüren wie sie es vorher nicht erlebt haben. \n\nInfos zum Vortragenden:\nHubert Loibichler ist Mystiker\, er hat Zugang zur höheren Welt\, macht spirituelle Vorträge und Seminare\, er hatte mehrere Erleuchtungserlebnisse die in seinem Buch zu lesen sind. \n\nWann:  Do.5.3.2026     19.00h bis 21.00h\nOrt:  Obernberg 20\, A-4894 Oberhofen am Irrsee\nAbendbeitrag:  € 25\,-  bitte um Anmeldung unter Kontakt oder 0664 1200 670\, gerne auch per SMS oder WHATSAPP
URL:https://www.loibichler-innerhofer.at/event/spiritueller-abend-gefuehrte-meditation-oberhofen-am-irrsee/
END:VEVENT
END:VCALENDAR