BEGIN:VCALENDAR
VERSION:2.0
PRODID:-//Loibichler-Innerhofer - ECPv6.15.20//NONSGML v1.0//EN
CALSCALE:GREGORIAN
METHOD:PUBLISH
X-WR-CALNAME:Loibichler-Innerhofer
X-ORIGINAL-URL:https://www.loibichler-innerhofer.at
X-WR-CALDESC:Veranstaltungen für Loibichler-Innerhofer
REFRESH-INTERVAL;VALUE=DURATION:PT1H
X-Robots-Tag:noindex
X-PUBLISHED-TTL:PT1H
BEGIN:VTIMEZONE
TZID:Europe/Vienna
BEGIN:DAYLIGHT
TZOFFSETFROM:+0100
TZOFFSETTO:+0200
TZNAME:CEST
DTSTART:20250330T010000
END:DAYLIGHT
BEGIN:STANDARD
TZOFFSETFROM:+0200
TZOFFSETTO:+0100
TZNAME:CET
DTSTART:20251026T010000
END:STANDARD
BEGIN:DAYLIGHT
TZOFFSETFROM:+0100
TZOFFSETTO:+0200
TZNAME:CEST
DTSTART:20260329T010000
END:DAYLIGHT
BEGIN:STANDARD
TZOFFSETFROM:+0200
TZOFFSETTO:+0100
TZNAME:CET
DTSTART:20261025T010000
END:STANDARD
BEGIN:DAYLIGHT
TZOFFSETFROM:+0100
TZOFFSETTO:+0200
TZNAME:CEST
DTSTART:20270328T010000
END:DAYLIGHT
BEGIN:STANDARD
TZOFFSETFROM:+0200
TZOFFSETTO:+0100
TZNAME:CET
DTSTART:20271031T010000
END:STANDARD
END:VTIMEZONE
BEGIN:VEVENT
DTSTART;TZID=Europe/Vienna:20260327T190000
DTEND;TZID=Europe/Vienna:20260327T210000
DTSTAMP:20260426T045644
CREATED:20260322T130751Z
LAST-MODIFIED:20260322T135317Z
UID:898-1774638000-1774645200@www.loibichler-innerhofer.at
SUMMARY:Spiritueller Abend & geführte Meditation (Osttirol)
DESCRIPTION:„MYSTISCHES HEILREISEN“\nThemen die dich quälen auflösen\nJeder Mensch hat viele Ängste\, Familienmuster oder alte Erinnerungen\, die ihn immer wieder quälen\, den Schlaf rauben und die sich mit dem logischen Verstand einfach nicht lösen lassen.\nHubert Loibichler erzählt an diesem Abend von der wunderbaren Möglichkeit des „Mystischen Heilreisens“\, mit der solche quälenden Themen erlöst werden können.\nIn der geführten Meditation hast du die Möglichkeit deine unerlösten Themen aufzuspüren die dich nicht länger quälen müssen. \nDu hast später die Möglichkeit deine quälenden Themen über eine Mystische Heilreise aufzulösen und zu erlösen.\nInfos zum Vortragenden:\nHubert Loibichler ist Mystiker\, er hat Zugang zur höheren Welt\, macht spirituelle Vorträge und Seminare\, er hatte mehrere Erleuchtungserlebnisse die in seinem Buch zu lesen sind.\n\nWann:  Fr. 27.3.2026     19.00h bis 21.00h\nOrt:  Mühlanger 2\, 9990 Nußdorf/Debant – Osttirol\nAbendbeitrag:  € 25\,-  bitte um Anmeldung unter 0650 8941539\, gerne auch per SMS oder WHATSAPP
URL:https://www.loibichler-innerhofer.at/event/spiritueller-abend-mit-gefuehrter-meditation/
END:VEVENT
END:VCALENDAR