BEGIN:VCALENDAR
VERSION:2.0
PRODID:-//Loibichler-Innerhofer - ECPv6.15.20//NONSGML v1.0//EN
CALSCALE:GREGORIAN
METHOD:PUBLISH
X-WR-CALNAME:Loibichler-Innerhofer
X-ORIGINAL-URL:https://www.loibichler-innerhofer.at
X-WR-CALDESC:Veranstaltungen für Loibichler-Innerhofer
REFRESH-INTERVAL;VALUE=DURATION:PT1H
X-Robots-Tag:noindex
X-PUBLISHED-TTL:PT1H
BEGIN:VTIMEZONE
TZID:Europe/Vienna
BEGIN:DAYLIGHT
TZOFFSETFROM:+0100
TZOFFSETTO:+0200
TZNAME:CEST
DTSTART:20250330T010000
END:DAYLIGHT
BEGIN:STANDARD
TZOFFSETFROM:+0200
TZOFFSETTO:+0100
TZNAME:CET
DTSTART:20251026T010000
END:STANDARD
BEGIN:DAYLIGHT
TZOFFSETFROM:+0100
TZOFFSETTO:+0200
TZNAME:CEST
DTSTART:20260329T010000
END:DAYLIGHT
BEGIN:STANDARD
TZOFFSETFROM:+0200
TZOFFSETTO:+0100
TZNAME:CET
DTSTART:20261025T010000
END:STANDARD
BEGIN:DAYLIGHT
TZOFFSETFROM:+0100
TZOFFSETTO:+0200
TZNAME:CEST
DTSTART:20270328T010000
END:DAYLIGHT
BEGIN:STANDARD
TZOFFSETFROM:+0200
TZOFFSETTO:+0100
TZNAME:CET
DTSTART:20271031T010000
END:STANDARD
END:VTIMEZONE
BEGIN:VEVENT
DTSTART;TZID=Europe/Vienna:20260401T080000
DTEND;TZID=Europe/Vienna:20260531T170000
DTSTAMP:20260426T033117
CREATED:20260401T130748Z
LAST-MODIFIED:20260414T072513Z
UID:917-1775030400-1780246800@www.loibichler-innerhofer.at
SUMMARY:Mystisches Heilreisen (Einzel-Termine)
DESCRIPTION:Was ist das: THEMEN DIE DICH QUÄLEN — AUFLÖSEN\n\nFür wen:  Alle Menschen — auch du\, trägst alte Erinnerungen\, viele Ängste\, schlechtes Gewissen\, Schwüre\, Selbstvorwürfe\,… in dir\, die dich immer wieder quälen.\n\nWoher: sie können aus der Kindheit\, Familie\, aus einem schlimmen Erlebnis oder aus einem früheren Leben kommen — egal woher sie kommen — sie alle sind schon lange vorbei und quälen dich noch immer.\n\nWarum lassen die sich nicht mit dem Verstand einfach lösen? — Weil sie auf deinem Energiefeld eingebrannt sind und dein Verstand dort keinen Zugriff hat. „Einfach Loslassen“ funktioniert dort nicht.\n\nWer: Hubert oder Agnes können mit ihrer Gabe solche quälenden Themen auflösen — mit ihren Zugängen zu Höheren Ebenen erlösen.\n\nWie: du wirst über eine „geführte Meditation“ zu deinem quälenden Thema hingeführt — ohne dein eigenes Eingreifen werden diese Qualen auf Höherer Ebene aufgelöst — (Mystisch erlöst).  Wie durch ein unerklärbares Wunder wird diese unangenehme Qual ausgelöscht.\n\nWie viel: 100 und mehr Menschen konnten sich schon mit einer Mystischen Heilreise von solchen quälenden Themen befreien — sind nachher „sehr beglückt“ und brauchen sich nicht mehr ihr schönes Leben oder den Schlaf rauben lassen.\n\nNIEMAND MUSS SICH LÄNGER QUÄLEN\n\nWo: wir arbeiten in Oberhofen am Irrsee — Nähe Salzburg oder Nußdorf/Debant –Osttirol\, auch auf Vortragsreisen (nicht online)\n\nKosten: € 180\,-\n\nTERMIN VEREINBAREN unter KONTAKT oder telefonisch 0664 1200 670 oder 0650 89 41 539
URL:https://www.loibichler-innerhofer.at/event/mystisches-heilreisen/
END:VEVENT
BEGIN:VEVENT
DTSTART;TZID=Europe/Vienna:20260413T080000
DTEND;TZID=Europe/Vienna:20260503T170000
DTSTAMP:20260426T033117
CREATED:20260407T075151Z
LAST-MODIFIED:20260422T093726Z
UID:937-1776067200-1777827600@www.loibichler-innerhofer.at
SUMMARY:Meine Erleuchtung`s Erlebnisse (Buch)
DESCRIPTION:EINE GESCHICHTE\, WIE ERLEUCHTUNG ERLEBT WERDEN KANN.\nJeder Mensch strebt nach Glück\, weil im Glück die Verbundenheit mit dem Göttlichen\, mit dem Allganzen spürbar wird.\nErleuchtung ist die Vereinigung mit dem Göttlichen\, jeder Mensch strebt bewusst oder unbewusst nach dieser Vereinigung.\n\nDieses Buch ist für Menschen:\n> die Erleuchtung schon erlebt haben\, ihr Erleben nicht einordnen können\, sich nicht austauschen können weil niemand da ist der sie verstehen oder gar helfen könnte.\n> die Teile davon erlebt haben (Erwachen\, Erlösung\, Erleuchtung)\n> für Ärzte\, Psychologen… ist ein Wissen über spirituelles Erwachen eine Notwendigkeit.\n> für Jene\, die jemand in der Familie oder einen Freund haben\, der plötzlich in seinem Wesen unerklärbar verwandelt ist.\n> für spirituelle Suchende und Menschen die eine große Sehnsucht nach Erleuchtung verspüren.\n> auch für Menschen mit Nahtoderlebnissen\, Fremdbesetzungen mit Telepathischen Übergriffen und mehr.\nJeder Mensch erlebt eines Tages „Erleuchtung“ im Laufe seiner vielen Leben.\n\n\nBUCH BESTELLEN unter KONTAKT oder Tele./Whatsapp 0664 1200 670 oder 0650 89 41 539
URL:https://www.loibichler-innerhofer.at/event/meine-erleuchtungs-erlebnisse-buch/
END:VEVENT
BEGIN:VEVENT
DTSTART;TZID=Europe/Vienna:20260415T080000
DTEND;TZID=Europe/Vienna:20260515T170000
DTSTAMP:20260426T033117
CREATED:20260416T130959Z
LAST-MODIFIED:20260422T093335Z
UID:950-1776240000-1778864400@www.loibichler-innerhofer.at
SUMMARY:Rückführungen (Einzel-Termine)
DESCRIPTION:Was ist das: EIN FRÜHERES LEBEN ANSCHAUEN\n\nFür wen:  Viele Menschen haben eine innere Sehnsucht nochmals in ein früheres Leben zurückschauen zu wollen.\n\nWarum: Weil sie verspüren\, es ist dort noch etwas offen geblieben\, es soll noch etwas aufgelöst werden oder sie hatten in diesem Vorleben keine Möglichkeit richtig abzuschließen.\n\nWer: Hubert kann dich mit deinem Bewusstsein in ein früheres Leben führen. Er ist ein erfahrener Mystiker\, der selber viele Rückführungen\, Entgrenzungen und mehrere Erleuchtungen erlebt hat.\n\nWie: Du wirst mit einer geführten Meditation zu einem deiner früheren Leben geführt. Je nach deiner spirituellen Bewusstheit kannst du dir dein Erleben von damals nochmals anschauen und alles klären was es noch braucht. Nach diesem Vorgang wird die Meditation wieder aufgelöst.\n\nWie viel: Viele Menschen wurden schon mit so einem Erlebnis bereichert.\n\nDIE SEHNSUCHT NACH ERKLÄRUNG KANN GESTILLT WERDEN\n\nWo: Ich arbeite in Oberhofen am Irrsee – Nähe Salzburg oder Nußdorf/Debant – Osttirol\, auch auf Vortragsreisen (nicht online)\n\nKosten: € 200\,-\n\nTERMIN VEREINBAREN unter KONTAKT oder telefonisch 0664 1200 670 oder 0650 89 41 539
URL:https://www.loibichler-innerhofer.at/event/rueckfuehrungen-einzel-termine/
END:VEVENT
BEGIN:VEVENT
DTSTART;TZID=Europe/Vienna:20260417T080000
DTEND;TZID=Europe/Vienna:20260517T170000
DTSTAMP:20260426T033117
CREATED:20260417T104112Z
LAST-MODIFIED:20260422T093139Z
UID:955-1776412800-1779037200@www.loibichler-innerhofer.at
SUMMARY:Fremd-Besetzungen (Einzel-Termine)
DESCRIPTION:Was ist das: WENN FREMDE KRÄFTE DAS EIGENE BEWUSSTSEIN BEEINFLUSSEN (in Besitz nehmen)\n\nWoher:  Wenn ein Mensch\, bewusst oder unbewusst\, sein eigenes Wollen\, sein Ich aufgibt oder an andere Kräfte abgibt.\nSein Verhalten und auch sein Denken ist plötzlich verändert – also fremd\, nicht zu ihm passend.\n\nWarum: Das kann bei starken Krisen\, durch Drogeneinfluss\, bei Unfällen\, Nahtoderleben etc. ausgelöst werden\, wenn ein Mensch nicht mehr Herr seines eigenen Wollens (seines Ichs) ist und er dieses Wollen an andere „Fremde Kräfte“ abgibt.\n\nWer: Hubert ist ein erfahrener Mystiker\, der vor vielen Jahren solche Fremdbesetzungen erlebt hat\, er kann Menschen von Fremd-Besetzungen befreien.\n\nWie: Du wirst durch eine Meditation in eine tiefe Entspannung geführt und diese „Fremden Kräfte“ werden von Hubert über eine Höhere Ebene ins Allganze zurückgeleitet. Es werden dann die energetischen Tore verschlossen\, somit ist der Zugang für diese Kräfte versperrt . Nach diesem Vorgang wird die Meditation wieder aufgelöst.\n\nWie dann: Dieser Mensch ist wieder in einem Leben\, welches nur vom eigenen Bewusstsein gesteuert wird.\n\nFREMD-BESETZUNGEN KÖNNEN GELÖST WERDEN\n\nWo: Ich arbeite in Oberhofen am Irrsee – Nähe Salzburg oder Nußdorf/Debant – Osttirol\, auch auf Vortragsreisen (nicht online)\n\nKosten: € 200\,-\n\nTERMIN VEREINBAREN unter KONTAKT oder telefonisch 0664 1200 670 oder 0650 89 41 539
URL:https://www.loibichler-innerhofer.at/event/fremdbesetzungen-einzel-termine/
END:VEVENT
BEGIN:VEVENT
DTSTART;TZID=Europe/Vienna:20260420T080000
DTEND;TZID=Europe/Vienna:20260520T170000
DTSTAMP:20260426T033117
CREATED:20260420T083311Z
LAST-MODIFIED:20260422T092138Z
UID:966-1776672000-1779296400@www.loibichler-innerhofer.at
SUMMARY:Seelenmuster (Matrix)
DESCRIPTION:Was ist das: DEIN SEELENMUSTER BEINHALTET DEINE FÄHIGKEITEN UND AUFGABEN\n\nFür wen:  Jeder Mensch – auch du – hat ein Seelenmuster\, welches dein Leben bestimmt.\nWenn du es kennst\, ist es so\, als würdest du im Dich-Selber-Erkennen kein Analphabeth mehr sein.\n\nWarum: Weil dein Leben von 7 Kräften aus der seelischen Ebene angeleitet wird. Es sind die Kräfte/Energieformen vom: Heiler (unterstützen)\, Künstler (gestalten)\, Krieger (kämpfen)\, Gelehrter (lernen/lehren)\, Weiser (mitteilen)\, Priester (trösten)\, König (führen). Jeweils eine dieser Kräfte ist deine Hauptenergie (Seelenrolle) und zwei dieser Kräfte sind deine Urängste. Dein Entwicklungsziel\, Modus\, usw. – auch dein Seelenalter haben einen großen Einfuss auf dein Leben\, genauso  wie dein Seelenweg und deine Seelenfamilie auf dein Leben einwirken.\n\nWoher: Dein Seelenmuster bestimmt dein „Inneres Wollen“ –  meist unbewusst\, wenn du dein Seelenmuster nicht kennst.\n\nWer: Hubert oder Agnes können dein Seelenmuster ermitteln\, auch deinen Seelenweg\, deine Seelenfamilie und die Aufgabe deiner Seelenfamilie.\n\nWie: Du meldest dich bei uns per Whatsapp oder Email\, sendest uns drei Passfotos\, können mit dem Handy gemacht werden\, aber bitte keine Selfies\, bitte jemand anderen fotografieren lassen. Zeitabstand etwa einen halben Tag\, das Foto ohne Lächeln und ohne Brille\, die Augen gut sichtbar. Wir brauchen noch deine Stimme\, also eine Tonaufnahme per WhatsApp oder Email\, ca. 3 bis 5 Minuten reden über dich\, ähnlich wie Lebenslauf.\nWir ermitteln mit unseren hellsichtigen Zugängen dein Seelenmuster (Matrix) – du bist bei der Ermittlung nicht dabei. Wir überbringen dir dein einzigartiges Seelenmuster. Für das Verstehen deines Seelenmusters kannst du die Erklärungen auf unserer Homepage „YouTube“ Seelenmuster (Teil 1-3) anschauen und ein Coaching bei uns buchen.\n\nWie dann: Die Menschen sagen\, seither ist der Blick auf sich selber geöffnet.\n\nNIEMAND MUSS EIN SELBST-ANALPHABETH BLEIBEN\n\nWo: Wir arbeiten in Oberhofen am Irrsee — Nähe Salzburg oder Nußdorf/Debant –Osttirol. Wir arbeiten mit dem Seelenmuster auch in Seminaren.\nKosten: Seelenmuster (Matrix) mit Seelenweg und Seelenfamilie € 300\,-\, mit Coaching € 450\,- (ca.1 Stunden) wahlweise persönlich oder per Videophon.\nKosten:  Aufgabe deiner Seelenfamilie € 250\,- ohne Coaching\n\nTERMIN VEREINBAREN unter KONTAKT oder telefonisch 0664 1200 670 oder 0650 89 41 539
URL:https://www.loibichler-innerhofer.at/event/seelenmuster-matrix/
END:VEVENT
BEGIN:VEVENT
DTSTART;TZID=Europe/Vienna:20260423T080000
DTEND;TZID=Europe/Vienna:20260523T170000
DTSTAMP:20260426T033117
CREATED:20260423T075633Z
LAST-MODIFIED:20260423T084235Z
UID:988-1776931200-1779555600@www.loibichler-innerhofer.at
SUMMARY:Kontakte zu Verstorbene (Einzel-Termin)
DESCRIPTION:Was ist das: NOCHMALS MIT EINEM VERSTORBENEN REDEN UND IHM WEITERHELFEN\n\nFür wen:  Für Menschen die nicht richtig Abschied nehmen konnten\, es blieb noch etwas unausgesprochen oder sie haben oft das Gefühl der Verstorbene ist noch anwesend.\n\nWarum: Weil der Verstorbene oft jemanden braucht der ihm weiterhilft in sein himmlisches Zuhause. Erkommt nicht weiter weil er nicht Abschied nehmen kann oder noch etwas mitteilen will.\n\nWer: Hubert oder Agnes können mit ihrer Gabe einen Kontakt zu einen Verstorbenen aufnehmen.\n\nWie: Du brauchst ein paar Fotos vom Verstorbenen und Hubert oder Agnes nehmen in einer Tiefenmeditation Kontakt zum Verstorbenen auf. Sobald der Kontakt hergestellt ist\, kannst du Fragen an den Verstorbenen stellen und du wirst über den Zugang von Hubert oder Agnes eine klärende und meist tröstliche Rückantwort bekommen. Auch der Verstorbene will meistens noch etwas mitteilen. Sehr oft wird ihm damit weitergholfen und der Übergang in sein himmlisches Zuhause – wird möglich.\n\nWie viel: Viele Menschen wurden damit schon getröstet und konnten sich von ihren Verstorbenen richtig verabschieden.\n\nDIE SEHNSUCHT – NACH NOCHMALS REDEN – KANN GESTILLT WERDEN\n\nWo: Wir arbeiten in Oberhofen am Irrsee – Nähe Salzburg oder Nußdorf/Debant – Osttirol\, auch auf Vortragsreisen (nicht online)\n\nKosten: € 200\,-\n\nTERMIN VEREINBAREN unter KONTAKT oder telefonisch 0664 1200 670 oder 0650 89 41 539
URL:https://www.loibichler-innerhofer.at/event/kontakte-zu-verstorbene-einzel-termin/
END:VEVENT
END:VCALENDAR